OziExplorer Map Data File Version 2.2
Ergaki-gps.gif
D:\prikluchenie.narod.ru\maps\ergaki\ergaki2_gif.gif
1 ,Map Code,
WGS 84,WGS 84, 0.0000, 0.0000,WGS 84
Reserved 1
Reserved 2
Magnetic Variation,,,E
Map Projection,Latitude/Longitude,PolyCal,No,AutoCalOnly,No,BSBUseWPX,No
Point01,xy, 1183, 1630,in, deg, 52, 49.6940,N, 93, 20.6990,E, grid, , , ,N
Point02,xy, 1275, 814,in, deg, 52, 52.7050,N, 93, 21.7820,E, grid, , , ,N
Point03,xy, 1875, 1349,in, deg, 52, 50.8960,N, 93, 24.9710,E, grid, , , ,N
Point04,xy, 1496, 1650,in, deg, 52, 50.1550,N, 93, 22.5110,E, grid, , , ,N
Point05,xy, 1631, 2310,in, deg, 52, 47.6340,N, 93, 23.5330,E, grid, , , ,N
Point06,xy, 559, 2049,in, deg, 52, 48.5700,N, 93, 17.6360,E, grid, , , ,N
Point07,xy, 774, 2937,ex, deg, 52, 45.5550,N, 93, 18.7230,E, grid, , , ,N
Point08,xy, , ,ex, deg, , ,N, , ,W, grid, , , ,N
Point09,xy, , ,ex, deg, , ,N, , ,W, grid, , , ,N
Point10,xy, , ,in, deg, , ,N, , ,W, grid, , , ,N
Point11,xy, , ,in, deg, , ,N, , ,W, grid, , , ,N
Point12,xy, , ,in, deg, , ,N, , ,W, grid, , , ,N
Point13,xy, , ,in, deg, , ,N, , ,W, grid, , , ,N
Point14,xy, , ,in, deg, , ,N, , ,W, grid, , , ,N
Point15,xy, , ,in, deg, , ,N, , ,W, grid, , , ,N
Point16,xy, , ,in, deg, , ,N, , ,W, grid, , , ,N
Point17,xy, , ,in, deg, , ,N, , ,W, grid, , , ,N
Point18,xy, , ,in, deg, , ,N, , ,W, grid, , , ,N
Point19,xy, , ,in, deg, , ,N, , ,W, grid, , , ,N
Point20,xy, , ,in, deg, , ,N, , ,W, grid, , , ,N
Point21,xy, , ,in, deg, , ,N, , ,W, grid, , , ,N
Point22,xy, , ,in, deg, , ,N, , ,W, grid, , , ,N
Point23,xy, , ,in, deg, , ,N, , ,W, grid, , , ,N
Point24,xy, , ,in, deg, , ,N, , ,W, grid, , , ,N
Point25,xy, , ,in, deg, , ,N, , ,W, grid, , , ,N
Point26,xy, , ,in, deg, , ,N, , ,W, grid, , , ,N
Point27,xy, , ,in, deg, , ,N, , ,W, grid, , , ,N
Point28,xy, , ,in, deg, , ,N, , ,W, grid, , , ,N
Point29,xy, , ,in, deg, , ,N, , ,W, grid, , , ,N
Point30,xy, , ,in, deg, , ,N, , ,W, grid, , , ,N
Projection Setup,,,,,,,,,,
Map Feature = MF ; Map Comment = MC These follow if they exist
Track File = TF These follow if they exist TF,"C:\Documents and Settings\Sergey\My Documents\GPS-маршруты\1.wpt"
Moving Map Parameters = MM? These follow if they exist
MM0,Yes
MMPNUM,4
MMPXY,1,0,0
MMPXY,2,3215,0
MMPXY,3,3215,3820
MMPXY,4,0,3820
MMPLL,1, 93.244263, 52.923742
MMPLL,2, 93.542054, 52.926189
MMPLL,3, 93.533165, 52.710160
MMPLL,4, 93.235374, 52.707713
MM1B,6.247508
LL Grid Setup
LLGRID,Yes,1 Deg,Yes,255,16711680,0,1 Min,0,16777215,8,1,Yes,x
Other Grid Setup
GRGRID,Yes,500 m,No,16711680,255,1 Km,0,16777215,8,1,Yes,Yes,No,x
MOP,Map Open Position,0,0
IWH,Map Image Width/Height,3215,3820
